BEGIN:VCALENDAR
VERSION:2.0
PRODID:-//pretix//pretix-PROD_Wien//
BEGIN:VTIMEZONE
TZID:Europe/Vienna
BEGIN:STANDARD
DTSTART:20001029T030000
RRULE:FREQ=YEARLY;BYDAY=-1SU;BYMONTH=10
TZNAME:CET
TZOFFSETFROM:+0200
TZOFFSETTO:+0100
END:STANDARD
BEGIN:DAYLIGHT
DTSTART:20000326T020000
RRULE:FREQ=YEARLY;BYDAY=-1SU;BYMONTH=3
TZNAME:CEST
TZOFFSETFROM:+0100
TZOFFSETTO:+0200
END:DAYLIGHT
END:VTIMEZONE
BEGIN:VEVENT
UID:pretix-M13STB-qc3rz-0@ticket.wien.gv.at
DTSTART;TZID=Europe/Vienna:20251028T140000
DTEND;TZID=Europe/Vienna:20251028T170000
DESCRIPTION:Tickets: https://ticket.wien.gv.at/M13STB/qc3rz/\nVeranstalter:
  Stadt Wien - Büchereien
DTSTAMP:20260423T104912Z
LOCATION:Hauptbücherei am Gürtel\, Veranstaltungssaal
SUMMARY:Am Ende wird alles gut? | eine Schreibwerkstatt mit Sabine Schönfe
 llner für 8- bis 13-Jährige
END:VEVENT
END:VCALENDAR
