BEGIN:VCALENDAR
VERSION:2.0
PRODID:-//pretix//pretix-PROD_Wien//
BEGIN:VTIMEZONE
TZID:Europe/Vienna
BEGIN:STANDARD
DTSTART:20001029T030000
RRULE:FREQ=YEARLY;BYDAY=-1SU;BYMONTH=10
TZNAME:CET
TZOFFSETFROM:+0200
TZOFFSETTO:+0100
END:STANDARD
BEGIN:DAYLIGHT
DTSTART:20000326T020000
RRULE:FREQ=YEARLY;BYDAY=-1SU;BYMONTH=3
TZNAME:CEST
TZOFFSETFROM:+0100
TZOFFSETTO:+0200
END:DAYLIGHT
END:VTIMEZONE
BEGIN:VEVENT
UID:pretix-M13STB-jvcuf-0@ticket.wien.gv.at
DTSTART;TZID=Europe/Vienna:20260527T190000
DTEND;TZID=Europe/Vienna:20260527T203000
DESCRIPTION:Tickets: https://ticket.wien.gv.at/M13STB/jvcuf/\nEinlass: 27.0
 5.2026 00:00\nVeranstalter: Stadt Wien - Büchereien
DTSTAMP:20260423T045913Z
LOCATION:Bücherei Penzing
SUMMARY:Susanne Gregor liest aus ihrem Buch „Halbe Leben“ (Zsolnay)
END:VEVENT
END:VCALENDAR
