BEGIN:VCALENDAR
VERSION:2.0
PRODID:-//pretix//pretix-PROD_Wien//
BEGIN:VTIMEZONE
TZID:Europe/Vienna
BEGIN:STANDARD
DTSTART:20001029T030000
RRULE:FREQ=YEARLY;BYDAY=-1SU;BYMONTH=10
TZNAME:CET
TZOFFSETFROM:+0200
TZOFFSETTO:+0100
END:STANDARD
BEGIN:DAYLIGHT
DTSTART:20000326T020000
RRULE:FREQ=YEARLY;BYDAY=-1SU;BYMONTH=3
TZNAME:CEST
TZOFFSETFROM:+0100
TZOFFSETTO:+0200
END:DAYLIGHT
END:VTIMEZONE
BEGIN:VEVENT
UID:pretix-M13STB-ebook0224-53589@ticket.wien.gv.at
DTSTART;TZID=Europe/Vienna:20241218T160000
DTEND;TZID=Europe/Vienna:20241218T163000
DESCRIPTION:Tickets: https://ticket.wien.gv.at/M13STB/ebook0224/53589/\nVer
 anstalter: Stadt Wien - Büchereien
DTSTAMP:20260425T163512Z
LOCATION:Hauptbücherei am Gürtel
SUMMARY:eBook-Sprechstunde
END:VEVENT
END:VCALENDAR
