BEGIN:VCALENDAR
VERSION:2.0
PRODID:-//pretix//pretix-PROD_Wien//
BEGIN:VTIMEZONE
TZID:Europe/Vienna
BEGIN:STANDARD
DTSTART:20001029T030000
RRULE:FREQ=YEARLY;BYDAY=-1SU;BYMONTH=10
TZNAME:CET
TZOFFSETFROM:+0200
TZOFFSETTO:+0100
END:STANDARD
BEGIN:DAYLIGHT
DTSTART:20000326T020000
RRULE:FREQ=YEARLY;BYDAY=-1SU;BYMONTH=3
TZNAME:CEST
TZOFFSETFROM:+0100
TZOFFSETTO:+0200
END:DAYLIGHT
END:VTIMEZONE
BEGIN:VEVENT
UID:pretix-M13STB-bclnp-71840@ticket.wien.gv.at
DTSTART;TZID=Europe/Vienna:20251126T111500
DTEND;TZID=Europe/Vienna:20251126T151500
DESCRIPTION:Tickets: https://ticket.wien.gv.at/M13STB/bclnp/71840/\nVeranst
 alter: Stadt Wien - Büchereien
DTSTAMP:20260420T040121Z
LOCATION:Hauptbücherei am Gürtel
SUMMARY:Fit für die Zukunft: Bewerben im digitalen Zeitalter
END:VEVENT
END:VCALENDAR
