BEGIN:VCALENDAR
VERSION:2.0
PRODID:-//pretix//pretix-PROD_Wien//
BEGIN:VTIMEZONE
TZID:Europe/Vienna
BEGIN:STANDARD
DTSTART:20001029T030000
RRULE:FREQ=YEARLY;BYDAY=-1SU;BYMONTH=10
TZNAME:CET
TZOFFSETFROM:+0200
TZOFFSETTO:+0100
END:STANDARD
BEGIN:DAYLIGHT
DTSTART:20000326T020000
RRULE:FREQ=YEARLY;BYDAY=-1SU;BYMONTH=3
TZNAME:CEST
TZOFFSETFROM:+0100
TZOFFSETTO:+0200
END:DAYLIGHT
END:VTIMEZONE
BEGIN:VEVENT
UID:pretix-M13STB-FfdZ3-0@ticket.wien.gv.at
DTSTART;TZID=Europe/Vienna:20250918T140000
DTEND;TZID=Europe/Vienna:20250918T180000
DESCRIPTION:Tickets: https://ticket.wien.gv.at/M13STB/FfdZ3/\nVeranstalter:
  Stadt Wien - Büchereien
DTSTAMP:20260423T183834Z
LOCATION:Hauptbücherei am Gürtel (Gruppenraum 2)
SUMMARY:Fit für die Zukunft: Bewerben im digitalen Zeitalter | Modul 3: Vi
 deointerviews souverän meistern
END:VEVENT
END:VCALENDAR
