BEGIN:VCALENDAR
VERSION:2.0
PRODID:-//pretix//pretix-PROD_Wien//
BEGIN:VTIMEZONE
TZID:Europe/Vienna
BEGIN:STANDARD
DTSTART:20001029T030000
RRULE:FREQ=YEARLY;BYDAY=-1SU;BYMONTH=10
TZNAME:CET
TZOFFSETFROM:+0200
TZOFFSETTO:+0100
END:STANDARD
BEGIN:DAYLIGHT
DTSTART:20000326T020000
RRULE:FREQ=YEARLY;BYDAY=-1SU;BYMONTH=3
TZNAME:CEST
TZOFFSETFROM:+0100
TZOFFSETTO:+0200
END:DAYLIGHT
END:VTIMEZONE
BEGIN:VEVENT
UID:pretix-M13STB-BuAu26-0@ticket.wien.gv.at
DTSTART;TZID=Europe/Vienna:20260203T190000
DESCRIPTION:Tickets: https://ticket.wien.gv.at/M13STB/BuAu26/\nVeranstalter
 : Stadt Wien - Büchereien
DTSTAMP:20260423T092213Z
LOCATION:Hauptbücherei am Gürtel
SUMMARY:Buchgespräch zur Ausstellung  ›Die schönsten Bücher‹\, aus 7
  Nationen (a\, d\, ch\, nl\, cz\, slo\, ukr feat. »Junge Arbeiten der Gra
 phischen und der NDU«)
END:VEVENT
END:VCALENDAR
