BEGIN:VCALENDAR
VERSION:2.0
PRODID:-//pretix//pretix-PROD_Wien//
BEGIN:VTIMEZONE
TZID:Europe/Vienna
BEGIN:STANDARD
DTSTART:20001029T030000
RRULE:FREQ=YEARLY;BYDAY=-1SU;BYMONTH=10
TZNAME:CET
TZOFFSETFROM:+0200
TZOFFSETTO:+0100
END:STANDARD
BEGIN:DAYLIGHT
DTSTART:20000326T020000
RRULE:FREQ=YEARLY;BYDAY=-1SU;BYMONTH=3
TZNAME:CEST
TZOFFSETFROM:+0100
TZOFFSETTO:+0200
END:DAYLIGHT
END:VTIMEZONE
BEGIN:VEVENT
UID:pretix-M13STB-9hg33-0@ticket.wien.gv.at
DTSTART;TZID=Europe/Vienna:20251211T193000
DESCRIPTION:Tickets: https://ticket.wien.gv.at/M13STB/9hg33/\nVeranstalter:
  Stadt Wien - Büchereien
DTSTAMP:20260423T104918Z
LOCATION:Hauptbücherei am Gürtel\, Hecklounge
SUMMARY:Tea for three | Klaus Nüchtern & Daniela Strigl im literarischen K
 amingespräch mit Judith Hoffmann ( Kulturjournalistin (Ö1) und Literatur
 wissenschaftlerin)
END:VEVENT
END:VCALENDAR
