BEGIN:VCALENDAR
VERSION:2.0
PRODID:-//pretix//pretix-PROD_Wien//
BEGIN:VTIMEZONE
TZID:Europe/Vienna
BEGIN:STANDARD
DTSTART:20001029T030000
RRULE:FREQ=YEARLY;BYDAY=-1SU;BYMONTH=10
TZNAME:CET
TZOFFSETFROM:+0200
TZOFFSETTO:+0100
END:STANDARD
BEGIN:DAYLIGHT
DTSTART:20000326T020000
RRULE:FREQ=YEARLY;BYDAY=-1SU;BYMONTH=3
TZNAME:CEST
TZOFFSETFROM:+0100
TZOFFSETTO:+0200
END:DAYLIGHT
END:VTIMEZONE
BEGIN:VEVENT
UID:pretix-M11-RAP-Infoabende-RAP-2-73959@ticket.wien.gv.at
DTSTART;TZID=Europe/Vienna:20260521T170000
DTEND;TZID=Europe/Vienna:20260521T190000
DESCRIPTION:Tickets: https://ticket.wien.gv.at/M11-RAP/Infoabende-RAP-2/739
 59/\nEinlass: 21.05.2026 17:00\nVeranstalter: MA 11 Wiener Kinder- und Jug
 endhilfe - Fachbereich Referat für Adoptiv- und Pflegekinder
DTSTAMP:20260421T073311Z
LOCATION:Online
SUMMARY:Online-Informationsabend für Pflegeelternschaft
END:VEVENT
END:VCALENDAR
