BEGIN:VCALENDAR
VERSION:2.0
PRODID:-//pretix//pretix-PROD_Wien//
BEGIN:VTIMEZONE
TZID:Europe/Vienna
BEGIN:STANDARD
DTSTART:20001029T030000
RRULE:FREQ=YEARLY;BYDAY=-1SU;BYMONTH=10
TZNAME:CET
TZOFFSETFROM:+0200
TZOFFSETTO:+0100
END:STANDARD
BEGIN:DAYLIGHT
DTSTART:20000326T020000
RRULE:FREQ=YEARLY;BYDAY=-1SU;BYMONTH=3
TZNAME:CEST
TZOFFSETFROM:+0100
TZOFFSETTO:+0200
END:DAYLIGHT
END:VTIMEZONE
BEGIN:VEVENT
UID:pretix-M11-FAMZ-E-F-3-76567@ticket.wien.gv.at
DTSTART;TZID=Europe/Vienna:20251218T110600
DTEND;TZID=Europe/Vienna:20251218T190000
DESCRIPTION:Tickets: https://ticket.wien.gv.at/M11-FAMZ/E-F-3/76567/\nEinla
 ss: 18.12.2025 11:00\nVeranstalter: MA 11 Wiener Kinder- und Jugendhilfe -
  Familienzentren
DTSTAMP:20260420T154412Z
LOCATION:Online
SUMMARY:Eltern-Fit-Online-Vortrag "Zuhause mit Baby"
END:VEVENT
END:VCALENDAR
