BEGIN:VCALENDAR
VERSION:2.0
PRODID:-//pretix//pretix-PROD_Wien//
BEGIN:VTIMEZONE
TZID:Europe/Vienna
BEGIN:STANDARD
DTSTART:20001029T030000
RRULE:FREQ=YEARLY;BYDAY=-1SU;BYMONTH=10
TZNAME:CET
TZOFFSETFROM:+0200
TZOFFSETTO:+0100
END:STANDARD
BEGIN:DAYLIGHT
DTSTART:20000326T020000
RRULE:FREQ=YEARLY;BYDAY=-1SU;BYMONTH=3
TZNAME:CEST
TZOFFSETFROM:+0100
TZOFFSETTO:+0200
END:DAYLIGHT
END:VTIMEZONE
BEGIN:VEVENT
UID:pretix-M11-FAMZ-E-F-3-51476@ticket.wien.gv.at
DTSTART;TZID=Europe/Vienna:20250304T170000
DTEND;TZID=Europe/Vienna:20250304T190000
DESCRIPTION:Tickets: https://ticket.wien.gv.at/M11-FAMZ/E-F-3/51476/\nEinla
 ss: 04.03.2025 16:45\nVeranstalter: MA 11 Wiener Kinder- und Jugendhilfe -
  Familienzentren
DTSTAMP:20260421T171705Z
LOCATION:Online
SUMMARY:Eltern-Fit-Online-Vortrag "Aufwachsen in Wien"
END:VEVENT
END:VCALENDAR
