BEGIN:VCALENDAR
VERSION:2.0
PRODID:-//pretix//pretix-PROD_Wien//
BEGIN:VTIMEZONE
TZID:Europe/Vienna
BEGIN:STANDARD
DTSTART:20001029T030000
RRULE:FREQ=YEARLY;BYDAY=-1SU;BYMONTH=10
TZNAME:CET
TZOFFSETFROM:+0200
TZOFFSETTO:+0100
END:STANDARD
BEGIN:DAYLIGHT
DTSTART:20000326T020000
RRULE:FREQ=YEARLY;BYDAY=-1SU;BYMONTH=3
TZNAME:CEST
TZOFFSETFROM:+0100
TZOFFSETTO:+0200
END:DAYLIGHT
END:VTIMEZONE
BEGIN:VEVENT
UID:pretix-M09-vgggt-0@ticket.wien.gv.at
DTSTART;TZID=Europe/Vienna:20250723T170000
DESCRIPTION:Tickets: https://ticket.wien.gv.at/M09/vgggt/\nVeranstalter: MA
  9 Wienbibliothek im Rathaus
DTSTAMP:20260426T030923Z
LOCATION:Wienbibliothek im Rathaus\, Ausstellungskabinett\, 1010 Wien\, Rat
 haus\, Eingang Felderstraße\, Stiege 6\, Glaslift\, 1. Stock
SUMMARY:Führung durch die Ausstellung: Wien und die Wissenschaftliche Welt
 auffassung. Orte des Wiener Kreises
END:VEVENT
END:VCALENDAR
