BEGIN:VCALENDAR
VERSION:2.0
PRODID:-//pretix//pretix-PROD_Wien//
BEGIN:VTIMEZONE
TZID:Europe/Vienna
BEGIN:STANDARD
DTSTART:20001029T030000
RRULE:FREQ=YEARLY;BYDAY=-1SU;BYMONTH=10
TZNAME:CET
TZOFFSETFROM:+0200
TZOFFSETTO:+0100
END:STANDARD
BEGIN:DAYLIGHT
DTSTART:20000326T020000
RRULE:FREQ=YEARLY;BYDAY=-1SU;BYMONTH=3
TZNAME:CEST
TZOFFSETFROM:+0100
TZOFFSETTO:+0200
END:DAYLIGHT
END:VTIMEZONE
BEGIN:VEVENT
UID:pretix-M09-kigeopolitik-0@ticket.wien.gv.at
DTSTART;TZID=Europe/Vienna:20250512T190000
DTEND;TZID=Europe/Vienna:20250512T204500
DESCRIPTION:Tickets: https://ticket.wien.gv.at/M09/kigeopolitik/\nEinlass: 
 12.05.2025 18:40\nVeranstalter: MA 9 Wienbibliothek im Rathaus
DTSTAMP:20260425T215827Z
LOCATION:Das MuTh – Konzertsaal der Wiener Sängerknaben\, Am Augartenspi
 tz 1\, 1020 Wien
SUMMARY:Wiener Vorlesung : “Die Eloquenz der Computer Macht\, Magie und M
 echanik” am 12. Mai 2025\, 19 Uhr
END:VEVENT
END:VCALENDAR
