BEGIN:VCALENDAR
VERSION:2.0
PRODID:-//pretix//pretix-PROD_Wien//
BEGIN:VTIMEZONE
TZID:Europe/Vienna
BEGIN:STANDARD
DTSTART:20001029T030000
RRULE:FREQ=YEARLY;BYDAY=-1SU;BYMONTH=10
TZNAME:CET
TZOFFSETFROM:+0200
TZOFFSETTO:+0100
END:STANDARD
BEGIN:DAYLIGHT
DTSTART:20000326T020000
RRULE:FREQ=YEARLY;BYDAY=-1SU;BYMONTH=3
TZNAME:CEST
TZOFFSETFROM:+0100
TZOFFSETTO:+0200
END:DAYLIGHT
END:VTIMEZONE
BEGIN:VEVENT
UID:pretix-KAV-GED-aroma-0@ticket.wien.gv.at
DTSTART;TZID=Europe/Vienna:20261001T083000
DTEND;TZID=Europe/Vienna:20261001T163000
DESCRIPTION:Tickets: https://ticket.wien.gv.at/KAV-GED/aroma/\nVeranstalter
 : Wiener Gesundheitsverbund - Therapiezentrum Ybbs
DTSTAMP:20260420T092820Z
LOCATION:Therapiezentrum Ybbs - Festsaal\, Persenbeugerstraße 1-3\, 3370 Y
 bbs/Donau\, E-Mail: post.tzy.aromapflegetagung@gesundheitsverbund.at
SUMMARY:Aromapflegetagung
END:VEVENT
END:VCALENDAR
